BEGIN:VCALENDAR
PRODID://WordPress//Event-Post-V5.9.2//EN
VERSION:2.0
BEGIN:VTIMEZONE
TZID:Europe/Rome
BEGIN:DAYLIGHT
TZOFFSETFROM:+0100
TZOFFSETTO:+0200
DTSTART:19700329T020000
RRULE:FREQ=YEARLY;BYDAY=-1SU;BYMONTH=3
END:DAYLIGHT
BEGIN:STANDARD
TZOFFSETFROM:+0200
TZOFFSETTO:+0100
TZNAME:CET
DTSTART:19701025T030000
RRULE:FREQ=YEARLY;BYDAY=-1SU;BYMONTH=10
END:STANDARD
END:VTIMEZONE
BEGIN:VEVENT
SUMMARY:Foggia: beneficenza a teatro
UID:https://www.csvfoggia.it/foggia-beneficenza-a-teatro/
LOCATION:
DTSTAMP:20260427
DTSTART;TZID=Europe/Rome:20260427
DTEND;TZID=Europe/Rome:20260428
DESCRIPTION:Il teatro incontra la solidarietà. L’appuntamento è per lunedì 27
aprile 2026 al Teatro "Umberto Giordano" alle ore 21.00 (ingresso alle
20.30) con lo spettacolo dal titolo "In principio eravamo noi" scritto e
diretto da Dino La Cecilia, Fabio Conticelli, Aldo Augelli e Fabio Di
Credico. Il ricavato della serata sarà devoluto alla A.Stom. Aps.

Per ulteriori informazioni:
A.Stom.Aps
(Associazione Stomizzati Foggia)
Via A. Regina, 3 - 71121 Foggia
cell.: 327.8487883
e-mail: a.stom.aps@gmail.com

 
END:VEVENT
END:VCALENDAR