BEGIN:VCALENDAR
PRODID://WordPress//Event-Post-V5.9.2//EN
VERSION:2.0
BEGIN:VTIMEZONE
TZID:Europe/Rome
BEGIN:DAYLIGHT
TZOFFSETFROM:+0100
TZOFFSETTO:+0200
DTSTART:19700329T020000
RRULE:FREQ=YEARLY;BYDAY=-1SU;BYMONTH=3
END:DAYLIGHT
BEGIN:STANDARD
TZOFFSETFROM:+0200
TZOFFSETTO:+0100
TZNAME:CET
DTSTART:19701025T030000
RRULE:FREQ=YEARLY;BYDAY=-1SU;BYMONTH=10
END:STANDARD
END:VTIMEZONE
BEGIN:VEVENT
SUMMARY:Castelluccio Valmaggiore: escursione guidata sul Monte Cornacchia
UID:https://www.csvfoggia.it/castelluccio-valmaggiore-escursione-guidata-sul-monte-cornacchia/
LOCATION:
DTSTAMP:20260425
DTSTART;TZID=Europe/Rome:20260425
DTEND;TZID=Europe/Rome:20260425
DESCRIPTION:Il 25 aprile 2026 è in programma un’escursione guidata sul Monte
Cornacchia, nel territorio di Castelluccio Valmaggiore, per riscoprire
paesaggi, natura e storia della Capitanata, nel segno del turismo lento e
della giornata della Liberazione.
L’iniziativa, gratuita e aperta a tutti, rientra nel progetto “In
Valle”, promosso dalla cooperativa Altereco e da Open Planet con il
sostegno di Regione Puglia e Arti, in collaborazione con il Comune di
Castelluccio Valmaggiore e il Club Alpino Italiano di Foggia.
L’escursione, guidata da Francesco De Pasquale, prevede un percorso ad
anello di circa 11 km con partenza dal Bosco Petrera e arrivo sulla vetta
più alta della Puglia, con rientro nel primo pomeriggio.
Per ulteriori informazioni:
Coop. Sociale Altereco
Via B. Croce, 7 – 71042 Cerignola
tel.: 353.3476674
e-mail: coop.altereco@yahoo.it
url: www.alterecofarm.it
END:VEVENT
END:VCALENDAR