BEGIN:VCALENDAR
PRODID://WordPress//Event-Post-V5.9.2//EN
VERSION:2.0
BEGIN:VTIMEZONE
TZID:Europe/Rome
BEGIN:DAYLIGHT
TZOFFSETFROM:+0100
TZOFFSETTO:+0200
DTSTART:19700329T020000
RRULE:FREQ=YEARLY;BYDAY=-1SU;BYMONTH=3
END:DAYLIGHT
BEGIN:STANDARD
TZOFFSETFROM:+0200
TZOFFSETTO:+0100
TZNAME:CET
DTSTART:19701025T030000
RRULE:FREQ=YEARLY;BYDAY=-1SU;BYMONTH=10
END:STANDARD
END:VTIMEZONE
BEGIN:VEVENT
SUMMARY:Foggia: GenerAzione – giovani, comunità, futuro
UID:https://www.csvfoggia.it/foggia-generazione-giovani-comunita-futuro/
LOCATION:
DTSTAMP:20260428
DTSTART;TZID=Europe/Rome:20260428
DTEND;TZID=Europe/Rome:20260428
DESCRIPTION:Martedì 28 aprile 2026, a Foggia, si svolgerà “GenerAzione – giovani,
comunità, futuro”, un incontro promosso da MoVi Foggia in collaborazione
con l’Università di Foggia e il CSV Foggia.
L’iniziativa, ospitata presso il Dipartimento di Scienze Sociali, vedrà
i contributi di Carmela Robustella, direttrice del Dipartimento di Scienze
Sociali; Lelio Pagliara, presidente di MoVi Foggia; Pasquale Marchese,
presidente del CSV Foggia; Pierpaolo Magliocca, docente universitario;
Antonella Gurrieri, delegata all’orientamento dell’Università di
Foggia e Carlo Laronga, direttore del CSV Foggia.
Al centro del confronto il ruolo del volontariato e del Terzo Settore come
motori di innovazione sociale e sviluppo delle comunità, con particolare
attenzione al coinvolgimento dei giovani e alle opportunità offerte dalle
reti territoriali.
L’incontro offrirà anche uno spazio di presentazione delle realtà
associative locali, con l’obiettivo di promuovere partecipazione e
costruire insieme percorsi condivisi per il futuro del territorio.

Per ulteriori informazioni
MO.V.I. Provinciale Foggia
(Movimento Volontariato Italiano)
Lelio Pagliara
cell.: 340.9487719
END:VEVENT
END:VCALENDAR